BEGIN:VCALENDAR
VERSION:2.0
PRODID:-//RCASA - ECPv6.13.0//NONSGML v1.0//EN
CALSCALE:GREGORIAN
METHOD:PUBLISH
X-WR-CALNAME:RCASA
X-ORIGINAL-URL:https://www.rcasa.org.za
X-WR-CALDESC:Events for RCASA
REFRESH-INTERVAL;VALUE=DURATION:PT1H
X-Robots-Tag:noindex
X-PUBLISHED-TTL:PT1H
BEGIN:VTIMEZONE
TZID:Africa/Johannesburg
BEGIN:STANDARD
TZOFFSETFROM:+0200
TZOFFSETTO:+0200
TZNAME:SAST
DTSTART:20260101T000000
END:STANDARD
END:VTIMEZONE
BEGIN:VEVENT
DTSTART;TZID=Africa/Johannesburg:20260424T080000
DTEND;TZID=Africa/Johannesburg:20260426T170000
DTSTAMP:20260424T034709
CREATED:20250206T140208Z
LAST-MODIFIED:20260205T093524Z
UID:2766-1777017600-1777222800@www.rcasa.org.za
SUMMARY:WBRF Fly-Inn 2026
DESCRIPTION:Everyone welcome\, Open to all types of Aircraft.  \n\n\n\nNo Entry fee!
URL:https://www.rcasa.org.za/event/walker-bay-radio-flyers-fly-in-2025/
CATEGORIES:Approved
END:VEVENT
END:VCALENDAR